BEGIN:VCALENDAR
VERSION:2.0
PRODID:-//Tukios.com/
BEGIN:VEVENT
UID:cf665447-d3ad-4431-a94c-a9ae5f5d8d12@www.sawyergeorgefuneralhome.com
DTSTAMP:20260422T210914Z
DTSTART:20260427T150000Z
DTEND:20260427T160000Z
SUMMARY:Graveside Service
DESCRIPTION:
URL:https://www.sawyergeorgefuneralhome.com/obituaries/louis-allen-obrien
LOCATION:Memorial Park Cemetery 4607 FM1889  Robstown TX 78380
GEO:27.8338301;-97.6643802
END:VEVENT
END:VCALENDAR